BEGIN:VCALENDAR
VERSION:2.0
PRODID:-//ExpressionEngine Easy iCalendar plugin//NONSGML v2.0.1//EN
X-WR-TIMEZONE:America/Los_Angeles
X-WR-CALNAME:Upcoming Auctions
BEGIN:VEVENT
UID:157105
DTSTAMP:20260223T100000
DTSTART:20260223T100000
DTEND:20260310T100000
SUMMARY:March Heavy Equipment\, Vehicles & Appliances
LOCATION:1551 Vineyard Rd\, Roseville\, CA 95678\, US
DESCRIPTION:TMC Auction  1551 Vineyard Rd. Roseville\, CA 95678 Monthly 
 consignment auction to include Heavy Equipment\, Appliances\,
  Cars\, Trucks\, Vans\, Attachments\, Lumber\, Power Tools\, Home
  Improvement & Much Much More!
URL:https://www.tmcauction.com/auctions/detail/bw157105
SEQUENCE:1
END:VEVENT
END:VCALENDAR