BEGIN:VCALENDAR
VERSION:2.0
PRODID:-//ExpressionEngine Easy iCalendar plugin//NONSGML v2.0.1//EN
X-WR-TIMEZONE:America/Los_Angeles
X-WR-CALNAME:Upcoming Auctions
BEGIN:VEVENT
UID:152298
DTSTAMP:20251118T100000
DTSTART:20251118T100000
DTEND:20251209T100000
SUMMARY:December Heavy Equipment\, Vehicles & Appliances
LOCATION:1551 Vineyard Rd\, Roseville\, CA 95678\, US
DESCRIPTION:TMC Auction  1551 Vineyard Rd. Roseville\, CA 95678 Monthly 
 consignment auction to include Heavy Equipment\, Recycling E
 quipment\, Cars\, Trucks\, Vans\, Attachments\, Lumber\, Power Too
 ls\, Home Improvement & Much Much More!
URL:https://www.tmcauction.com/auctions/detail/bw152298
SEQUENCE:1
END:VEVENT
END:VCALENDAR