BEGIN:VCALENDAR
VERSION:2.0
PRODID:-//ExpressionEngine Easy iCalendar plugin//NONSGML v2.0.1//EN
X-WR-TIMEZONE:America/Los_Angeles
X-WR-CALNAME:Upcoming Auctions
BEGIN:VEVENT
UID:150627
DTSTAMP:20251022T080100
DTSTART:20251022T080100
DTEND:20251111T100000
SUMMARY:November Heavy Equipment Vehicles & Appliances (Online Only\,
  No Onsite Bidding)
LOCATION:1551 Vineyard Rd\, Roseville\, CA 95678\, US
DESCRIPTION:TMC Auction  1551 Vineyard Rd. Roseville\, CA 95678 Monthly 
 consignment auction to include Cars\, Trucks\, Vans\, Heavy Eq
 uipment\, Attachments\, Lumber\, Appliances\, Power Tools and m
 uch much more.
URL:https://www.tmcauction.com/auctions/detail/bw150627
SEQUENCE:1
END:VEVENT
END:VCALENDAR