BEGIN:VCALENDAR
VERSION:2.0
PRODID:-//ExpressionEngine Easy iCalendar plugin//NONSGML v2.0.1//EN
X-WR-TIMEZONE:America/Los_Angeles
X-WR-CALNAME:Upcoming Auctions
BEGIN:VEVENT
UID:148488
DTSTAMP:20251018T100000
DTSTART:20251018T100000
DTEND:20251018T110000
SUMMARY:October Live Online Tools & Equipment (sale will switch from
  timed to live @ 10:00AM Saturday October 18th\, 2025)
LOCATION:1551 Vineyard Rd\, Roseville\, CA 95678\, US
DESCRIPTION:Quarterly Live & Online Auction
URL:https://www.tmcauction.com/auctions/detail/bw148488
SEQUENCE:1
END:VEVENT
END:VCALENDAR