BEGIN:VCALENDAR
VERSION:2.0
PRODID:-//ExpressionEngine Easy iCalendar plugin//NONSGML v2.0.1//EN
X-WR-TIMEZONE:America/Los_Angeles
X-WR-CALNAME:Upcoming Auctions
BEGIN:VEVENT
UID:142675
DTSTAMP:20250619T090000
DTSTART:20250619T090000
DTEND:20250708T100000
SUMMARY:July Heavy Equipment Vehicles & Appliances (Online Only\, No 
 Onsite Bidding)
LOCATION:1551 Vineyard Rd\, Roseville\, CA 95678\, US
DESCRIPTION:TMC Auction  1551 Vineyard Rd. Roseville\, CA 95678 Monthly 
 consignment auction to include late model sedans\, SUVs\, Van
 s\, pick up trucks\, numerous Dump\, Enclosed and Equipment Tra
 ilers\, commercial vehicles\, appliances\, Heavy equipment\, Sk
 id Steer Attachments\, industrial construction equipment\, an
 d much more.   
URL:https://www.tmcauction.com/auctions/detail/bw142675
SEQUENCE:1
END:VEVENT
END:VCALENDAR