BEGIN:VCALENDAR
VERSION:2.0
PRODID:-//ExpressionEngine Easy iCalendar plugin//NONSGML v2.0.1//EN
X-WR-TIMEZONE:America/Los_Angeles
X-WR-CALNAME:Upcoming Auctions
BEGIN:VEVENT
UID:141381
DTSTAMP:20250528T100000
DTSTART:20250528T100000
DTEND:20250610T100000
SUMMARY:June Heavy Equipment Vehicles & Appliances (Online Only\, No 
 Onsite Bidding)
LOCATION:1551 Vineyard Rd\, Roseville\, CA 95678\, US
DESCRIPTION:TMC Auction  1551 Vineyard Rd. Roseville\, CA 95678 Monthly 
 consignment auction to include late model sedans\, suv's\, pi
 ck up trucks\, numerous Dump Trailers\, commercial vehicles\, 
 appliances\, landscaping equipment\, Skid Steer Attachments\, 
 industrial construction equipment\, and much more.   
URL:https://www.tmcauction.com/auctions/detail/bw141381
SEQUENCE:1
END:VEVENT
END:VCALENDAR