BEGIN:VCALENDAR
VERSION:2.0
PRODID:-//ExpressionEngine Easy iCalendar plugin//NONSGML v2.0.1//EN
X-WR-TIMEZONE:America/Los_Angeles
X-WR-CALNAME:Upcoming Auctions
BEGIN:VEVENT
UID:134590
DTSTAMP:20250129T100000
DTSTART:20250129T100000
DTEND:20250211T100000
SUMMARY:February Heavy Equipment Vehicles & Appliances
LOCATION:1551 Vineyard Rd\, Roseville\, CA 95678\, US
DESCRIPTION:TMC Auction  1551 Vineyard Rd. Roseville\, CA 95678 Monthly 
 consignment auction to include commercial vehicles\, applia
 nces\, landscaping equipment\, Skid Steer Attachments\, indust
 rial construction equipment\, and much more.   
URL:https://www.tmcauction.com/auctions/detail/bw134590
SEQUENCE:1
END:VEVENT
END:VCALENDAR