BEGIN:VCALENDAR
VERSION:2.0
PRODID:-//ExpressionEngine Easy iCalendar plugin//NONSGML v2.0.1//EN
X-WR-TIMEZONE:America/Los_Angeles
X-WR-CALNAME:Upcoming Auctions
BEGIN:VEVENT
UID:131740
DTSTAMP:20241125T100000
DTSTART:20241125T100000
DTEND:20241210T100000
SUMMARY:December Heavy Equipment Vehicles & Appliances
LOCATION:1551 Vineyard Rd\, Roseville\, CA 95678\, US
DESCRIPTION:TMC Auction  1551 Vineyard Rd. Roseville\, CA 95678 Monthly 
 consignment auction to include commercial vehicles\, applia
 nces\, landscaping equipment\, Skid Steers and Attachments\, in
 dustrial construction equipment\, and much more.   
URL:https://www.tmcauction.com/auctions/detail/bw131740
SEQUENCE:1
END:VEVENT
END:VCALENDAR