BEGIN:VCALENDAR
VERSION:2.0
PRODID:-//ExpressionEngine Easy iCalendar plugin//NONSGML v2.0.1//EN
X-WR-TIMEZONE:America/Los_Angeles
X-WR-CALNAME:Upcoming Auctions
BEGIN:VEVENT
UID:128413
DTSTAMP:20240926T100000
DTSTART:20240926T100000
DTEND:20241008T100000
SUMMARY:Oct Heavy Equipment Vehicles & Industrial Tooling
LOCATION:1551 Vineyard Rd\, Roseville\, CA 95678\, US
DESCRIPTION:TMC Auction  1551 Vineyard Rd. Roseville\, CA 95678 Monthly 
 consignment auction to include commercial vehicles\, tracto
 rs\, landscaping equipment\, Skid Steers and Attachments\, indu
 strial construction equipment\, and much more.   
URL:https://www.tmcauction.com/auctions/detail/bw128413
SEQUENCE:1
END:VEVENT
END:VCALENDAR