BEGIN:VCALENDAR
VERSION:2.0
PRODID:-//ExpressionEngine Easy iCalendar plugin//NONSGML v2.0.1//EN
X-WR-TIMEZONE:America/Los_Angeles
X-WR-CALNAME:Upcoming Auctions
BEGIN:VEVENT
UID:126708
DTSTAMP:20240911T100000
DTSTART:20240911T100000
DTEND:20240924T100000
SUMMARY:Lake County Fleet Reduction
LOCATION:1825 S. Main St\, Lakeport\, CA 95453\, US
DESCRIPTION:Lake County Public WorksÂ  1825 S. Main St. Lakeport\, CA 954
 53 County of Lake CA to reduce vehicle & equipment fleet\, sa
 le to include commercialÂ vehicles\, tractors\, landfillÂ equi
 pment\, industrial construction equipment\, and much more.Â  Â
  
URL:https://www.tmcauction.com/auctions/detail/bw126708
SEQUENCE:1
END:VEVENT
END:VCALENDAR