BEGIN:VCALENDAR
VERSION:2.0
PRODID:-//ExpressionEngine Easy iCalendar plugin//NONSGML v2.0.1//EN
X-WR-TIMEZONE:America/Los_Angeles
X-WR-CALNAME:Upcoming Auctions
BEGIN:VEVENT
UID:126703
DTSTAMP:20240914T100000
DTSTART:20240914T100000
DTEND:20240914T110000
SUMMARY:Sept Live Online Tools & Equipment (sale will switch from ti
 med to live @ 10:00 am Sat 09/14/24)
LOCATION:1551 Vineyard Rd\, Roseville\, CA 95678\, US
DESCRIPTION:Live & Online Auction of Tools Equipment & Household. Come o
 ut and see the action live in person or bid online from your
  device.  Sale will switch from timed to live @ 10:00 am Sa
 t 09/14/24\, current bidding is for pre bids only. Auctioneer
  will say sold for each lot during live auction. 
URL:https://www.tmcauction.com/auctions/detail/bw126703
SEQUENCE:1
END:VEVENT
END:VCALENDAR